Workbook

Sheet Instructions
B4: Return Grant Budget - UCT Calculator:
B7: This calculator is designed to support the applicant for the OP JAK Return Grant when planning project costs.
B9: Please proceed in the following order when completing the calculator:
B10: 1. | C10: Worksheet "RG application calculator" | D10: Start by going into the “Return grant budget” worksheet in the Grant application calculator (Activity 3_return grant application calculator_4.1.xlsx). Copy all data. Please ensure that the entire worksheet is selected using the top-left corner → copy. Go to the “RG application calculator” sheet in this file and paste all data also by using the top-left corner.
B11: 2. | C11: Worksheet "RG Budget" | D11: Data from the “RG application calculator” worksheet are automatically transfered to this sheet, where most of the budget items and personnel costs are calculated. Only the orange cells are intended to be completed . Main researcher should complete: 1) Main researcher (title, name, surname), Start and End of the implementation of the RG 2) Support expert team - only if it has been planned in the RG application calculator. List the individual team members in the table. For each member, specify the name (if not yet known, a placeholder such as “Member 1” may be used), salary grade, workload, and duration of involvement in the project. IMPORTANT: a) ensure that the average workload of all team members does not exceed, in any month of the project, the average workload specified in the RG application calculator b) make sure that the total number of planned productive hours of the supporting team corresponds to the total number of productive hours for the entire duration of the Return Grant as stated in the RG application calculator (control check: G24 = G25) c) check that the Total personnel costs for the entire project (column K) planned for the Support expert team do not exceed the total funds allocated to the Support expert team in the RG application calculator (control check: K24 ≤ K25). Any positive difference arising here is considered a Lump-sum for operating costs. 3) operating costs – please enter the amounts for each individual operating cost item (lines 38–41). The total amount of planned operating costs should correspond to the maximum eligible lump-sum amount for the RG. In case the planned operating costs exceed the maximum lump-sum, the difference would be financed by the faculty/institute in excess of 10% co-financing. This situation must be discussed with the faculty/institute in advance. Please state the reason for the additional funding in the comment field. 4) mentor’s name - only if it has been planned in the RG application calculator
B15: The calculation of personnel costs in the second part of the “RG Budget” sheet is for informational purposes only.

Sheet RG Budget
F1: Only orange cells are to be completed
B2: Return Grant Budget
B4: Name of the Return Grant: | D4: ='RG application calculator'!G3
B5: Amount allocated for the Return Grant: | D5: {='RG application calculator'!G5:N5} -> 0 | E5: 0 | F5: 0 | G5: 0 | H5: 0 | I5: 0 | J5: 0 | K5: 0
B6: Main researcher (title, name, surname):
B7: Duration of the Return Grant (months): | D7: ='RG application calculator'!H16 -> 0 | F7: Rate per 1 productive hour
B8: Workload of the main researcher: | D8: ='RG application calculator'!G16 -> 0 | F8: Main researcher: | I8: ='RG application calculator'!I16
B9: Start of the implementation of the RG: | F9: Mentor: | I9: ='RG application calculator'!I56
B10: End of the implementation of the RG: | F10: Support expert team: | I10: ='RG application calculator'!I65 | K10: max. average amount
B11: Position of the main researcher: | D11: =IF(I8=575,"Junior","Senior") -> Senior
F12: Number of productive hours in 1 year of RG: | I12: 1720
F13: Standard annual working hours: | I13: 2088
B17: Support expert team
C19: Team member (title, name, surname) | D19: Salary Grade | E19: Workload | F19: Involvement in RG (months) | G19: Number of productive hours | H19: Number of actual hours | I19: Total personnel costs (CZK per year per 1 FTE) | K19: Total personnel costs (CZK per project) | L19: Rate per 1 productive hour (CZK) | M19: Personnel costs – actual rate per 1 hour (CZK) | O19: Actual wage rate per 1 hour (CZK)
B20: Member 1: | G20: =($I$12/12)*E20*F20 -> 0 | H20: =($I$13/12)*E20*F20 -> 0 | I20: =IFERROR(VLOOKUP(D20,'Salary Grades – Medians'!$A$6:$H$29,8,0),0) -> 0 | K20: =I20*E20*(F20/12) -> 0 | L20: =IFERROR(K20/G20,0) -> 0 | M20: =IFERROR(K20/H20,0) -> 0 | O20: =M20/1.338 -> 0
B21: Member 2: | G21: =($I$12/12)*E21*F21 -> 0 | H21: =($I$13/12)*E21*F21 -> 0 | I21: =IFERROR(VLOOKUP(D21,'Salary Grades – Medians'!$A$6:$H$29,8,0),0) -> 0 | K21: =I21*E21*(F21/12) -> 0 | L21: =IFERROR(K21/G21,0) -> 0 | M21: =IFERROR(K21/H21,0) -> 0 | O21: =M21/1.338 -> 0
B22: Member 3: | G22: =($I$12/12)*E22*F22 -> 0 | H22: =($I$13/12)*E22*F22 -> 0 | I22: =IFERROR(VLOOKUP(D22,'Salary Grades – Medians'!$A$6:$H$29,8,0),0) -> 0 | K22: =I22*E22*(F22/12) -> 0 | L22: =IFERROR(K22/G22,0) -> 0 | M22: =IFERROR(K22/H22,0) -> 0 | O22: =M22/1.338 -> 0
B23: Member 4: | G23: =($I$12/12)*E23*F23 -> 0 | H23: =($I$13/12)*E23*F23 -> 0 | I23: =IFERROR(VLOOKUP(D23,'Salary Grades – Medians'!$A$6:$H$29,8,0),0) -> 0 | K23: =I23*E23*(F23/12) -> 0 | L23: =IFERROR(K23/G23,0) -> 0 | M23: =IFERROR(K23/H23,0) -> 0 | O23: =M23/1.338 -> 0
F24: Total: | G24: =SUM(G20:G23) -> 0 | H24: =SUM(H20:H23) -> 0 | K24: =SUM(K20:K23) -> 0
F25: Eligible number of productive hours from the calculator: | G25: {='RG application calculator'!J65:K65} -> 0 | H25: 0 | K25: ='RG application calculator'!L65 -> 0 | L25: Personnel costs from the calculator
B26: (The Support expert team may include in particular the following role types: research worker – junior; research worker – senior; technical staff member; other expert staff member / specialist.)
B30: Budget category | C30: Budget category name | D30: Budget item | E30: Main researcher Pers. Costs | F30: Main researcher Care contribution | G30: Mentor Max. costs | H30: Support expert team Actual costs | I30: Total | J30: Sloupec1 | K30: Financed by the grant | L30: UCT Co-financing (10%) | M30: Financed by the faculty / institute in excess of 10% | N30: Sloupec2 | O30: Comments | P30: Komentář 2
B31: 1.1.2.1 | C31: Unit costs – RG implementation (Activity 3) | D31: Personnel Costs: | E31: =IFERROR('RG application calculator'!K16*I8,"0") -> 0 | F31: ='RG application calculator'!L25 -> 0 | G31: ='RG application calculator'!L56 -> 0 | H31: =K24 -> 0 | I31: =IFERROR(E31+F31+G31+H31,"0") -> 0 | K31: =I31*0.9 -> 0 | L31: =I31*0.1 -> 0 | M31: 0
D32: Wage Costs | E32: =IFERROR(E31/1.338,"0") -> 0 | F32: =F31/1.338 -> 0 | G32: =G31/1.338 -> 0 | H32: =H31/1.338 -> 0 | I32: =IFERROR(E32+F32+G32+H32,"0") -> 0 | K32: =I32*0.9 -> 0 | L32: =I32*0.1 -> 0 | M32: =M31/1.338 -> 0
D33: Mandatory statutory contributions | E33: =IFERROR(E31-E32,"0") -> 0 | F33: =F31-F32 -> 0 | G33: =G31-G32 -> 0 | H33: =H31-H32 -> 0 | I33: =IFERROR(E33+F33+G33+H33,"0") -> 0 | K33: =I33*0.9 -> 0 | L33: =I33*0.1 -> 0 | M33: =M31-M32 -> 0
D34: MOBILITY: | I34: ='RG application calculator'!L34+'RG application calculator'!L36 -> 0 | K34: =I34*0.9 -> 0 | L34: =I34*0.1 -> 0 | M34: 0
D35: LUMP-SUM for operating costs (max. funds): | I35: =D5-I31-I34 -> 0 | K35: =I35*0.9 -> 0 | L35: =I35*0.1 -> 0
H36: Lump sum remaining for allocation: | I36: =IF((I35-I37<0),0,I35-I37) -> 0
D37: LUMP-SUM (actual funds) | E37: Fill in the amount for each operating cost item below: | I37: =SUM(I38:I41) -> 0 | L37: Total operating costs in excess of RG budget: | M37: =IF((I37-I35<0),0,I37-I35) -> 0
D38: Materials | I38: 0
D39: Other services (excluding publication fees) | I39: 0
D40: Tangible fixed assets | I40: 0
D41: Travel expenses | I41: 0
H43: Total RG Costs: | I43: =SUM(I31+I34+I35) -> 0 | K43: =SUM(K31+K34+K35) -> 0 | L43: =SUM(L31+L34+L35) -> 0 | M43: =SUM(M31,M34,M37) -> 0
B45: 1.1.1.1.1.7.1 | C45: Direct costs – services (Activity 2) | D45: Open Access - publication fees: | I45: 0
B48: Calculation of Personnel Costs:
B50: 1) | C50: Main researcher (wage assessment): | D50: =D6 -> 0
C51: Workload (FTE): | D51: =D8 -> 0 | F51: Conversion of RG productive hours amount into the Standard annual working hours:
C52: Involvement in RG (months): | D52: =D7 -> 0
C53: Number of productive hours (for the entire duration of the RG): | D53: =D52*(1720/12)*D51 -> 0 | H53: FTE
...

Sheet Salary Grades – Medians
A2: Mediány pro plánování osobních nákladů (pro rok 2026)
A5: Tarifní třída | B5: Hodiny dovolené | C5: TSM (Kč/rok) | D5: ODK | E5: PSM (Kč/rok) | F5: MN suma (Kč/rok) | G5: SZP (Kč/rok) | H5: ON suma (Kč/rok)
A6: A1 | B6: 320 | C6: 775500 | D6: 0.476 | E6: 368900 | F6: 1144400 | G6: 386800 | H6: 1531200
A7: A2 | B7: 320 | C7: 607500 | D7: 0.485 | E7: 294700 | F7: 902200 | G7: 304900 | H7: 1207100
A8: A3 | B8: 320 | C8: 648200 | D8: 0.507 | E8: 328900 | F8: 977100 | G8: 330300 | H8: 1307400
A9: A4 | B9: 320 | C9: 507400 | D9: 0.516 | E9: 261800 | F9: 769200 | G9: 260000 | H9: 1029200
A10: A5 | B10: 320 | C10: 492700 | D10: 0.395 | E10: 194500 | F10: 687200 | G10: 232300 | H10: 919500
A11: A6 | B11: 320 | C11: 414500 | D11: 0.2 | E11: 82800 | F11: 497300 | G11: 168100 | H11: 665400
A12: A7 | B12: 320 | C12: 456000 | D12: 0.188 | E12: 85800 | F12: 541800 | G12: 183100 | H12: 724900
A13: AV1 | B13: 320 | C13: 674600 | D13: 0.26 | E13: 175300 | F13: 849900 | G13: 287300 | H13: 1137200
A14: AV2 | B14: 320 | C14: 539700 | D14: 0.208 | E14: 112200 | F14: 651900 | G14: 220300 | H14: 872200
A15: AV3 | B15: 320 | C15: 411200 | D15: 0.236 | E15: 96900 | F15: 508100 | G15: 171700 | H15: 679800
A16: AV4 | B16: 320 | C16: 342700 | D16: 0.196 | E16: 67300 | F16: 410000 | G16: 138600 | H16: 548600
A17: V1 | B17: 240 | C17: 508600 | D17: 0.15 | E17: 76300 | F17: 584900 | G17: 197700 | H17: 782600
... A29: B7 | B29: 240 | C29: 340600 | D29: 0.02 | E29: 7000 | F29: 347600 | G29: 117500 | H29: 465100

Sheet RG application calculator
B1: back to introduction
C3: Return grant:
C5: Amount allocated for the return grant: | G5: 0
B8: Allocated funds
B10: Return grant - main researcher | E10: Position | F10: Scientific field according to MSCA | G10: Workload | H10: Number of months | I10: Rate per productive hour | J10: Minimum personnel costs based on the rate per productive hour | K10: Number of productive hours | L10: Total | N10: Indicators
H11: duration of the return grant (12 - 36 months) | I11: in CZK | L11: for the entire duration of the return grant | N11: 204041
E13: select from the list | F13: select from the list | G13: workload for one calendar month (0,5 - 1,0) | J13: in CZK | K13: for the entire duration of the return grant | O13: 244021
K16: 0 | L16: 0 | M16: 0 | N16: 0 | O16: 0
B19: Contribution for the care of a child or a close person | E19: Number of months of drawing the contribution | I19: Unit price per month | J19: Minimum personnel costs from the unit price per month | L19: Total
I20: v Kč | L20: for the entire duration of the return grant
E22: fill in the number of months (integer); if the main researcher draws, for example, a contribution for two people for the entire duration of the return grant of 12 months, the value 24 is filled in | I22: in CZK | J22: in CZK
L25: 0
B28: Mobility of the main researcher of the return grant | E28: Destination (outgoings) | H28: Number of months of mobility | I28: Price per mobility unit | J28: Number of working days (man-days) | L28: Amount for mobility | N28: Indicator
E29: select from the list | H29: 1 - 6 (max. 6 months in total for all mobilities) | I29: for 1 man-day | L29: for the entire duration of the mobility | N29: 204032
C34: 1. | J34: 0 | L34: 0 | M34: 0 | N34: 0
D36: 2. | J36: 0 | L36: 0 | N36: 0
I39: Celkem | J39: 0 | L39: 0 | N39: 0
B41: Educational development of the main researcher of the return grant | E41: Number of hours of training | I41: Price of training unit | L41: Total training amount
E42: fill in the number of hours of training | I42: price of one hour of training | L42: for the entire duration of the return grant | N42: -
L47: 0 | M47: 0
B50: Mentor | E50: Workload | G50: Number of people | H50: Number of months | I50: Rate per productive hour | J50: Number of productive hours | L50: Total | N50: Indicator
H51: mentor's involvement in the return grant in months | I51: in CZK | L51: for the entire duration of the return grant | N51: 244021
E53: average workload of mentor(s) per 1 calendar month (0,01 - 0,20) | G53: fill in | J53: for the entire duration of the return grant
J56: 0 | L56: 0 | M56: 0 | N56: 0
B59: Support expert team for the implementation of the return grant | E59: Workload | G59: Number of people | H59: Number of months | I59: Rate per productive hour | J59: Number of productive hours | L59: Total | N59: Indicator
H60: involvement of the expert team in the implementation of the return grant in months | I60: in CZK | L60: for the entire duration of the return grant | N60: 244021
E62: average workload of support team members per 1 calendar month (0,01 - 2,00) | G62: fill in | J62: for the entire duration of the return grant
J65: 0 | L65: 0 | M65: 0 | N65: 0
